BEGIN:VCALENDAR
VERSION:2.0
PRODID:-//hacksw/handcal//NONSGML v1.0//EN
BEGIN:VEVENT
SUMMARY:U15 M - USO ATHIS-MONS
UID:9109bf5f-8339-488c-af37-752cf18fb884
DTSTART:20260510T120000Z
DTEND:20260510T133000Z
LOCATION:GYMNASE RENE ROUSSEAU Allee des Pervenches 91390 Morsang-sur-Orge
CATEGORIES:Sportif
STATUS:
DESCRIPTION:Rendez-vous 13h15
URL;VALUE=URI:https://www.mfhb91.com/evenements/2026/05/10/u15-m-uso-athis-mons-2439251
END:VEVENT
END:VCALENDAR
