BEGIN:VCALENDAR
VERSION:2.0
PRODID:-//hacksw/handcal//NONSGML v1.0//EN
BEGIN:VEVENT
SUMMARY:U11 2 - US PALAISEAU
UID:512db677-0b76-4783-a937-d0b8360023da
DTSTART:20260510T090000Z
DTEND:20260510T103000Z
LOCATION:GYMNASE RENE ROUSSEAU Allee des Pervenches 91390 Morsang-sur-Orge
CATEGORIES:Sportif
STATUS:
DESCRIPTION:Rendez-vous 10h45
URL;VALUE=URI:https://www.mfhb91.com/evenements/2026/05/10/u11-2-us-palaiseau-2431206
END:VEVENT
END:VCALENDAR
