BEGIN:VCALENDAR
VERSION:2.0
PRODID:-//hacksw/handcal//NONSGML v1.0//EN
BEGIN:VEVENT
SUMMARY:U13 F - HBC VAL DE SEINE
UID:a2729446-9d25-412d-a6ab-5548d4de1bc8
DTSTART:20260509T120000Z
DTEND:20260509T131500Z
LOCATION:Gymnase du labyrinthe 4 voie Athena 91350 GRIGNY
CATEGORIES:Sportif
STATUS:
DESCRIPTION:Rendez-vous 13h15
URL;VALUE=URI:https://www.mfhb91.com/evenements/2026/05/09/u13-f-hbc-val-de-seine-2431208
END:VEVENT
END:VCALENDAR
