BEGIN:VCALENDAR
VERSION:2.0
PRODID:-//hacksw/handcal//NONSGML v1.0//EN
BEGIN:VEVENT
SUMMARY:HBC LISSES - U13 M2
UID:c9194c74-03f8-413b-a398-45e7d3726ce7
DTSTART:20260412T090000Z
DTEND:20260412T100000Z
LOCATION:Gymnase du Long Rayage (Centre Commercial du Long Rayage) Mail de l'Ile de France 91090 LISSES
CATEGORIES:Sportif
STATUS:
DESCRIPTION:<p>Rendez-vous 10H15</p>
URL;VALUE=URI:https://www.mfhb91.com/evenements/2026/04/12/hbc-lisses-u13-m2-2418346
END:VEVENT
END:VCALENDAR
