BEGIN:VCALENDAR
VERSION:2.0
PRODID:-//hacksw/handcal//NONSGML v1.0//EN
BEGIN:VEVENT
SUMMARY:CH ANGERVILLE - U18F
UID:adec4fa4-38a0-4263-8423-77c1625a5688
DTSTART:20260411T150000Z
DTEND:20260411T163000Z
LOCATION:Gymnase Gabriel Thirouin Chem. d'Autruy 91670 Angerville
CATEGORIES:Sportif
STATUS:
DESCRIPTION:Rendez-vous 16h45
URL;VALUE=URI:https://www.mfhb91.com/evenements/2026/04/11/ch-angerville-u18f-2439334
END:VEVENT
END:VCALENDAR
