BEGIN:VCALENDAR
VERSION:2.0
PRODID:-//hacksw/handcal//NONSGML v1.0//EN
BEGIN:VEVENT
SUMMARY:U13 M2 - AL BRETIGNY
UID:34e8aa5b-3b64-4636-82fd-297166ca900d
DTSTART:20260329T123000Z
DTEND:20260329T133000Z
LOCATION:GYMNASE JACQUES ANQUETIL Salle Colette Besson Rue Pierre Brossolette 91700 Fleury-Merogis
CATEGORIES:Sportif
STATUS:
DESCRIPTION:Rendez-vous 13h45
URL;VALUE=URI:https://www.mfhb91.com/evenements/2026/03/29/u13-m2-al-bretigny-2432153
END:VEVENT
END:VCALENDAR
