BEGIN:VCALENDAR
VERSION:2.0
PRODID:-//hacksw/handcal//NONSGML v1.0//EN
BEGIN:VEVENT
SUMMARY:BALLANCOURT VE HB U18 F
UID:2538aba6-0476-4cea-988e-c79412f30dd3
DTSTART:20260328T151500Z
DTEND:20260328T164500Z
LOCATION:Gymnase Pierre Denize 19 Rue de Verdun 91610 Ballancourt-sur-Essonne
CATEGORIES:Sportif
STATUS:
DESCRIPTION:Rendez-vous 15h30
URL;VALUE=URI:https://www.mfhb91.com/evenements/2026/03/28/ballancourt-ve-hb-u18-f-2420207
END:VEVENT
END:VCALENDAR
