BEGIN:VCALENDAR
VERSION:2.0
PRODID:-//hacksw/handcal//NONSGML v1.0//EN
BEGIN:VEVENT
SUMMARY:AS ST GERMAIN LES ARPAJONS - U11 1
UID:ba8cb1d8-2d61-4f11-868b-101f7f3ce5cb
DTSTART:20260328T121500Z
DTEND:20260328T140000Z
LOCATION:Gymnase Louis Babin route de Leuville 91180 St Germain les Arpajon
CATEGORIES:Sportif
STATUS:
URL;VALUE=URI:https://www.mfhb91.com/evenements/2026/03/28/as-st-germain-les-arpajons-u11-1-2420741
END:VEVENT
END:VCALENDAR
