BEGIN:VCALENDAR
VERSION:2.0
PRODID:-//hacksw/handcal//NONSGML v1.0//EN
BEGIN:VEVENT
SUMMARY:STE GENEVIEVE SPORTS / SM MFGH91
UID:10d6aeca-674a-45bf-8ebd-1fc7406943c9
DTSTART:20260322T150000Z
DTEND:20260322T163000Z
LOCATION:Gymnase Romain Rolland 28T Rue Romain Rolland 91700 Sainte-Genevieve-des-Bois
CATEGORIES:Sportif
STATUS:
DESCRIPTION:Rendez-vous 15h
URL;VALUE=URI:https://www.mfhb91.com/evenements/2026/03/22/ste-genevieve-sports-sm-mfgh91-2271934
END:VEVENT
END:VCALENDAR
