BEGIN:VCALENDAR
VERSION:2.0
PRODID:-//hacksw/handcal//NONSGML v1.0//EN
BEGIN:VEVENT
SUMMARY:MASSY ESSONNE HB - U11 1
UID:ab138cc8-fe72-435f-83ae-d44b4795b6be
DTSTART:20260314T150000Z
DTEND:20260314T160000Z
LOCATION:JEAN MOULIN AVENUE DES ETATS UNIS 91300 MASSY
CATEGORIES:Sportif
STATUS:
DESCRIPTION:Rendez-vous 15h15
URL;VALUE=URI:https://www.mfhb91.com/evenements/2026/03/14/massy-essonne-hb-u11-1-2418814
END:VEVENT
END:VCALENDAR
